BEGIN:VCALENDAR
VERSION:2.0
PRODID:-//FMT Gezondheidszorg - ECPv6.15.20//NONSGML v1.0//EN
CALSCALE:GREGORIAN
METHOD:PUBLISH
X-WR-CALNAME:FMT Gezondheidszorg
X-ORIGINAL-URL:https://fmtgezondheidszorg.nl
X-WR-CALDESC:Evenementen voor FMT Gezondheidszorg
REFRESH-INTERVAL;VALUE=DURATION:PT1H
X-Robots-Tag:noindex
X-PUBLISHED-TTL:PT1H
BEGIN:VTIMEZONE
TZID:Europe/Amsterdam
BEGIN:DAYLIGHT
TZOFFSETFROM:+0100
TZOFFSETTO:+0200
TZNAME:CEST
DTSTART:20250330T010000
END:DAYLIGHT
BEGIN:STANDARD
TZOFFSETFROM:+0200
TZOFFSETTO:+0100
TZNAME:CET
DTSTART:20251026T010000
END:STANDARD
BEGIN:DAYLIGHT
TZOFFSETFROM:+0100
TZOFFSETTO:+0200
TZNAME:CEST
DTSTART:20260329T010000
END:DAYLIGHT
BEGIN:STANDARD
TZOFFSETFROM:+0200
TZOFFSETTO:+0100
TZNAME:CET
DTSTART:20261025T010000
END:STANDARD
BEGIN:DAYLIGHT
TZOFFSETFROM:+0100
TZOFFSETTO:+0200
TZNAME:CEST
DTSTART:20270328T010000
END:DAYLIGHT
BEGIN:STANDARD
TZOFFSETFROM:+0200
TZOFFSETTO:+0100
TZNAME:CET
DTSTART:20271031T010000
END:STANDARD
END:VTIMEZONE
BEGIN:VEVENT
DTSTART;TZID=Europe/Amsterdam:20260424T080000
DTEND;TZID=Europe/Amsterdam:20260425T170000
DTSTAMP:20260425T023516
CREATED:20260212T095648Z
LAST-MODIFIED:20260217T100538Z
UID:68561-1777017600-1777136400@fmtgezondheidszorg.nl
SUMMARY:Zorg en Welzijn Carrièrebeurs | 24-25 april
DESCRIPTION:‘’Op zoek naar enthousiaste zorgprofessionals? Bij deelname aan De Carrièrebeurs Zorg&Welzijn 2026 – onderdeel van De Nationale Carrièrebeurs\, die naar verwachting ruim 200 werkgevers en 14.500 bezoekers zal verwelkomen – heeft u als exposant de beschikking over online Match&Meet talentpools via zowel uw desktop én in de Carrièrebeurs-app\, met een top 2 positie op sociale netwerken in Nederland ten tijde van de beurs. Hierdoor kunt u tot vier weken voor\, tijdens én na de beurs contact hebben met de (meest) relevante geregistreerde bezoekers. Een effectieve beursdeelname dus – zowel on- als offline! Haakt uw organisatie ook aan? Mail naar sales@memory.nl voor meer informatie.’’
URL:https://fmtgezondheidszorg.nl/agenda/zorg-en-welzijn-carrierebeurs-24-25-april/
LOCATION:RAI\, Amsterdam
ATTACH;FMTTYPE=image/png:https://fmtgezondheidszorg.nl/wp-content/uploads/2026/02/Middel-3.png
END:VEVENT
END:VCALENDAR