BEGIN:VCALENDAR
VERSION:2.0
PRODID:-//FMT Gezondheidszorg - ECPv6.15.20//NONSGML v1.0//EN
CALSCALE:GREGORIAN
METHOD:PUBLISH
X-ORIGINAL-URL:https://fmtgezondheidszorg.nl
X-WR-CALDESC:Evenementen voor FMT Gezondheidszorg
REFRESH-INTERVAL;VALUE=DURATION:PT1H
X-Robots-Tag:noindex
X-PUBLISHED-TTL:PT1H
BEGIN:VTIMEZONE
TZID:UTC
BEGIN:STANDARD
TZOFFSETFROM:+0000
TZOFFSETTO:+0000
TZNAME:UTC
DTSTART:20200101T000000
END:STANDARD
END:VTIMEZONE
BEGIN:VEVENT
DTSTART;TZID=UTC:20211102T140000
DTEND;TZID=UTC:20211102T170000
DTSTAMP:20260425T184343
CREATED:20211006T091222Z
LAST-MODIFIED:20211006T091342Z
UID:49402-1635861600-1635872400@fmtgezondheidszorg.nl
SUMMARY:ARCH22 Webinar ‘LIVING +’
DESCRIPTION:Een nieuwe kijk op de leefomgeving van mensen met een zorgvraag\nBenieuwd naar de ontwikkelingen op het gebied van wonen voor mensen met een verstandelijke beperking en zorgbehoevende ouderen? En dan met name wat de invloed van de fysieke leefomgeving is op deze mensen?  \nDit webinar organiseert de commissie van ARCH 22 samen met zorgorganisaties Ipse de Bruggen en Habion. Deze online sessie staat voor het delen van kennis en ervaringen uit de praktijk met een tweetal workshops en een lezing. \nHet webinar is een voorproef van de 5de editie van de Architecture Research Care and Health conferentie ‘ARCH 22 Enabling health\, care and well-being’. \nAanmelden voor het webinar kan hier. Na aanmelding ontvangen inschrijvers een mail met de link voor deelname.\nWat houdt dit webinar in? \nWat maakt een huis tot een thuis? Kan de gebouwde omgeving in dit hoofdstuk van hun leven voorzien in de behoefte van bewoners aan passende woonomgeving? Hen een gevoel van eigenaarschap en controle geven? In de workshops betrekken we je bij het proces van transformatie van de leefomgeving van kwetsbare mensen. En hoe dit op een nieuwe innovatieve manier door Ipse de Bruggen samen met Andrea Möhn Architects en bij Habion samen met hun transformatieteam bij meerdere projecten succesvol in de praktijk is gebracht.\nVeranderingen in het zorgstelsel en het financieringssysteem voor de zorg zijn naast maatschappelijke ontwikkelingen van grote invloed op het leven en welzijn van de kwetsbare mensen in onze samenleving. Zorginstellingen en woningcorporaties vertalen deze ontwikkelingen in hun missie en visie op het verlenen van zorg en de waarden die daarachter schuil gaan: het bieden van een betekenisvolle omgeving voor cliënten. Deze omstandigheden zullen steeds meer van invloed zijn op de gebouwde omgeving\, de woonomgeving\, de manier van zorg verlenen etc. Aan de hand van recente projecten en ontwerpen verkennen we de huidige oplossingen en nieuwe concepten die we op dit moment in Nederland zien. \nWorkshop 1 Ipse de Bruggen en Andrea Möhn Architects \nIn 2020 lanceerde Ipse de Bruggen het initiatief “Fysieke omgeving\, een vaste waarde in onze zorg”. Het positieve effect op het gedrag van een cliënt met een verstandelijke beperking en gedragsproblematiek na de transformatie van zijn kamer gaf daartoe de aanzet. Andrea Möhn Architects heeft in nauwe samenwerking met het zorgteam van Ipse de Bruggen en de familie van de cliënt een omgeving op maat gecreëerd die een zeer positief effect had op het gedrag van de cliënt\, zijn naaste omgeving\, de zorgmedewerkers en de organisatie. Binnen vier jaar worden nu twaalf kamers getransformeerd en de effecten op de cliënten wetenschappelijk onderzocht.\nTijdens deze workshop betrekken we je aan de hand van een studiecasus actief bij de stappen van een dergelijk transformatieproces. \nWorkshop 2 Habion \nDe afgelopen jaren heeft Habion haar traditionele verzorgingshuizen deels getransformeerd en nieuwbouw gerealiseerd. Dit is iedere keer een kans de ouderenhuisvesting opnieuw uit te vinden: een nieuwe vorm van wonen die waarde heeft voor de bewoner en de buurt en die klaar is voor de toekomst. Het transformatie-proces begint met bewonersbijeenkomsten die het transformatieteam van Habion organiseert. Iedereen wordt gehoord. Hoe wilt u oud worden? Wat heeft u daarvoor nodig en wat brengt u in? Met deze vragen wordt het nieuwe programma voor de desbetreffende locatie onderzocht en uitgewerkt.\nTijdens de workshop maakt u met dit transformatie begeleidende proces. Het transformatieteam van Habion is aanwezig. De  workshopdeelnemers komen aan het woord en worden zo de senior van de toekomst. \nLezing Best Practice \nGortemaker Algra Feenstra Architects en architectuurbureau Wiegerinck inspireren je met hun best practice voorbeelden tijdens een afsluitende lezing. \nHet hele webinar is georganiseerd rond het centrale thema van ARCH22 van kennis delen en verbinden met anderen. Per onderdeel is er ruimte om verder te praten over dit onderwerp en kennis\, ervaring en vragen uit te wisselen. De voertaal voor dit webinar is Engels i.v.m. het internationale deelnemerschap. \n> Lees eerdere berichten op FMT over ARCH22
URL:https://fmtgezondheidszorg.nl/agenda/arch22-webinar-living/
LOCATION:Online of op locatie
ATTACH;FMTTYPE=image/jpeg:https://fmtgezondheidszorg.nl/wp-content/uploads/2021/09/logo-arch21-2.jpg
ORGANIZER;CN="ARCH22":MAILTO:arch22conference@gmail.com
END:VEVENT
END:VCALENDAR