BEGIN:VCALENDAR
VERSION:2.0
PRODID:-//FMT Gezondheidszorg - ECPv6.15.20//NONSGML v1.0//EN
CALSCALE:GREGORIAN
METHOD:PUBLISH
X-ORIGINAL-URL:https://fmtgezondheidszorg.nl
X-WR-CALDESC:Evenementen voor FMT Gezondheidszorg
REFRESH-INTERVAL;VALUE=DURATION:PT1H
X-Robots-Tag:noindex
X-PUBLISHED-TTL:PT1H
BEGIN:VTIMEZONE
TZID:UTC
BEGIN:STANDARD
TZOFFSETFROM:+0000
TZOFFSETTO:+0000
TZNAME:UTC
DTSTART:20200101T000000
END:STANDARD
END:VTIMEZONE
BEGIN:VEVENT
DTSTART;TZID=UTC:20210713T123000
DTEND;TZID=UTC:20210713T133000
DTSTAMP:20260425T160416
CREATED:20210709T161051Z
LAST-MODIFIED:20210709T161051Z
UID:48879-1626179400-1626183000@fmtgezondheidszorg.nl
SUMMARY:Rondetafelgesprek met CEO’s over CO2-reductie
DESCRIPTION:Been Management Consulting organiseert op dinsdag 13 juli een rondetafelgesprek over CO2-reductie. Deze sessie vindt plaats tussen 12.30 en 13.30 uur en is online voor iedereen te volgen. \nDe bijeenkomst over CO2-reductie maakt deel uit van de gespreksreeks ‘Xpedition to the Source’. In deze gespreksreeks brengt Been Management Consulting leiders uit verschillende sectoren bijeen om te praten over duurzame bedrijfsvoering en systemische verandering. \nDeelnemers aan het gesprek zijn onder andere As Tempelman (CEO Eneco)\, Evert den Boer (CEO van de Enexis Groep)\, Manu Lageirse (CEO Transdev Nederland)\, René Toet (oprichter en CEO van Climate Neutral Group)\, Annemarie Manger (directeur Sustainability van Tata Steel). \nSystemische verandering\n“We kijken met deze duurzame leiders naar de systemische verandering die nodig is om tot CO2-reductie te komen”\, vertelt Leen Zevenbergen (Co-founder B Lab Europe en partner bij Been Management Consulting). “De wereld verandert snel en voor veel industrieën is systemische verandering onvermijdelijk. Voor bedrijven kleeft daar een risico aan\, want zij begeven zich met systemische verandering vaak op onbekend terrein. Dat vraagt moed van leiders.” \nCO2-reductie\nMet het klimaatakkoord zijn we gezamenlijk de uitdaging aangegaan onze CO2-uitstoot te verminderen. Ondernemingen hebben hierbij een onmisbare rol en leiders van bedrijven ervaren veel druk om te veranderen. Het is van belang om onder deze druk de juiste keuzes te maken. Been Management Consulting wil daaraan bijdragen door met Xpedition to the Source een platform te bieden voor het uitwisselen van ideeën en het opdoen van inspiratie. \nGeïnteresseerden kunnen het rondetafelgesprek kosteloos volgen. Aanmelden kan via de website van Been Management Consulting.
URL:https://fmtgezondheidszorg.nl/agenda/rondetafelgesprek-met-ceos-over-co2-reductie/
ATTACH;FMTTYPE=image/jpeg:https://fmtgezondheidszorg.nl/wp-content/uploads/2021/04/groen-aarde-duurzaamheid-circulariteit.jpg
ORGANIZER;CN="Been Management Consulting":MAILTO:info@beenmc.com
END:VEVENT
END:VCALENDAR