BEGIN:VCALENDAR
VERSION:2.0
PRODID:-//FMT Gezondheidszorg - ECPv6.15.20//NONSGML v1.0//EN
CALSCALE:GREGORIAN
METHOD:PUBLISH
X-ORIGINAL-URL:https://fmtgezondheidszorg.nl
X-WR-CALDESC:Evenementen voor FMT Gezondheidszorg
REFRESH-INTERVAL;VALUE=DURATION:PT1H
X-Robots-Tag:noindex
X-PUBLISHED-TTL:PT1H
BEGIN:VTIMEZONE
TZID:Europe/Amsterdam
BEGIN:DAYLIGHT
TZOFFSETFROM:+0100
TZOFFSETTO:+0200
TZNAME:CEST
DTSTART:20230326T010000
END:DAYLIGHT
BEGIN:STANDARD
TZOFFSETFROM:+0200
TZOFFSETTO:+0100
TZNAME:CET
DTSTART:20231029T010000
END:STANDARD
BEGIN:DAYLIGHT
TZOFFSETFROM:+0100
TZOFFSETTO:+0200
TZNAME:CEST
DTSTART:20240331T010000
END:DAYLIGHT
BEGIN:STANDARD
TZOFFSETFROM:+0200
TZOFFSETTO:+0100
TZNAME:CET
DTSTART:20241027T010000
END:STANDARD
BEGIN:DAYLIGHT
TZOFFSETFROM:+0100
TZOFFSETTO:+0200
TZNAME:CEST
DTSTART:20250330T010000
END:DAYLIGHT
BEGIN:STANDARD
TZOFFSETFROM:+0200
TZOFFSETTO:+0100
TZNAME:CET
DTSTART:20251026T010000
END:STANDARD
END:VTIMEZONE
BEGIN:VTIMEZONE
TZID:UTC
BEGIN:STANDARD
TZOFFSETFROM:+0000
TZOFFSETTO:+0000
TZNAME:UTC
DTSTART:20220101T000000
END:STANDARD
END:VTIMEZONE
BEGIN:VEVENT
DTSTART;TZID=Europe/Amsterdam:20240911T110000
DTEND;TZID=Europe/Amsterdam:20240911T121500
DTSTAMP:20260425T061257
CREATED:20240903T123054Z
LAST-MODIFIED:20240903T123054Z
UID:54615-1726052400-1726056900@fmtgezondheidszorg.nl
SUMMARY:Webinar: gevolgen van de Cyberbeveiligingswet voor de zorg
DESCRIPTION:Op woensdag 11 september van 11.00 tot 12.15 uur organiseert het ministerie van VWS een webinar over de gevolgen voor de zorgsector van de omzetting van de NIS2-richtlijn in de Cyberbeveiligingswet. Deze wet moet de cybersecurity van onmisbare sectoren als de zorg versterken. \nTijdens het webinar zal het onder andere gaan over de rol van expertisecentrum Z-CERT als zogeheten Computer Security Incident Response Team (CSIRT) voor de zorg\, en het toezicht door de Inspectie Gezondheidszorg en Jeugd (IGJ). Er wordt ook kort aandacht besteed aan de raakvlakken met de Wet weerbaarheid kritieke entiteiten. Die wet gaat over de fysieke weerbaarheid van vitale processen in Nederland\, zoals delen van de gezondheidszorg. \nEen weerbare EU\nDe digitale en fysieke veiligheid van onze samenleving staan steeds vaker onder druk. Tegelijkertijd digitaliseert de samenleving en zeker de zorg steeds meer. De Europese Commissie wil de digitale en fysieke weerbaarheid van de EU daarom vergroten en speelt hierop in met de invoering van twee richtlijnen: de Network and Information Security directive (NIS2) en de Critical Entities Resilience directive (CER). \nEen weerbare zorg in een weerbaar Nederland\nDe NIS2-richtlijn wordt in Nederland omgezet in de Cyberbeveiligingswet met als doel om de cybersecurity van onmisbare sectoren in ons land te versterken. De CER-richtlijn wordt omgezet in de Wet weerbaarheid kritieke entiteiten en richt zich op de fysieke weerbaarheid van vitale processen in Nederland. \nEen groot aantal organisaties in de zorgsector krijgt in 2025 te maken met deze nieuwe wetgeving. Het gaat daarbij om zorgaanbieders\, EU-referentielaboratoria\, geneesmiddelenfabrikanten\, onderzoeksinstellingen naar geneesmiddelen en vervaardigers van medische hulpmiddelen. Als de wet op hen van toepassing is\, moeten deze organisaties hun informatiebeveiliging op orde te hebben en cyberincidenten melden. \nWanneer valt een zorgorganisatie onder de Cyberbeveiligingswet?\nEen organisatie valt automatisch onder de Cyberbeveiligingswet als ze actief is in één of meer van de hierboven genoemde (deel)sectoren én indien zij kunnen worden aangemerkt als ‘essentiële of belangrijke entiteit’. Om als essentieel of belangrijk aangemerkt te worden\, wordt gekeken naar de omvang en de grootte van de organisatie. Grofweg is de wet niet van toepassing op organisaties die kleiner zijn dan 50fte en een omzet en jaarbalans hebben die beiden kleiner zijn dan 10 miljoen euro. \nOrganisaties in de zorg die niet aan bovenstaande criteria voor fte\, jaarbalans en omzet voldoen\, maar wel een essentiële rol vervullen in de maatschappij\, kunnen door VWS worden aangewezen als essentiële entiteit indien het Ministerie daar aanleiding toe ziet. \nBelangrijk om te weten: een organisatie die door de minister is aangewezen als kritieke entiteit in de zin van de Wet weerbaarheid kritieke entiteiten moet ook voldoen aan de verplichtingen die voortkomen uit de Cyberbeveiligingswet. Hoe dat precies zit\, wordt uitgelegd tijdens het webinar op 11 september. \nProgramma\nHet webinar\, onder leiding van gastheer Joost Hoebink\, wordt geopend door Abigail Norville\, plaatsvervangend Secretaris-Generaal van het ministerie van VWS. Vervolgens komen verschillende experts aan het woord: \n\nBirte van Elk\, projectleider implementatie NIS2 en CER in de zorg bij VWS\, over wat de Cyberbeveiligingswet inhoudt;\nLeonie Leliveld\, hoofd Departementaal Crisiscentrum VWS\, over de raakvlakken tussen de Cyberbeveiligingswet en de Wet weerbaarheid kritieke entiteiten;\nDaan Brinkhuis\, Teamlead Relations bij Z-CERT\, over de rol van een CSIRT in de zorg;\nRonald Jansen\, Hoofd Medische Technologie bij de Inspectie Gezondheidszorg en Jeugd (IGJ)\, over toezicht op cybersecurity in de zorg.\n\nAanmelden\nIedereen die meer wil weten over de Cyberbeveiligingswet en de gevolgen voor de zorgsector kan zich aanmelden voor het webinar via de onderstaande link. Tijdens het webinar kunnen in de chat vragen worden gesteld. Sommige vragen zal VWS direct beantwoorden. Overige vragen worden verwerkt op de pagina met veelgestelde vragen. \nNieuwsgierig geworden? Meld je hier aan voor het webinar.
URL:https://fmtgezondheidszorg.nl/agenda/webinar-gevolgen-van-de-cyberbeveiligingswet-voor-de-zorg/
LOCATION:Online
ATTACH;FMTTYPE=image/jpeg:https://fmtgezondheidszorg.nl/wp-content/uploads/2022/07/shutterstock_1188354160-datalek_web.jpg
END:VEVENT
BEGIN:VEVENT
DTSTART;TZID=UTC:20231206T150000
DTEND;TZID=UTC:20231206T170000
DTSTAMP:20260425T061257
CREATED:20231114T233927Z
LAST-MODIFIED:20231114T233927Z
UID:53325-1701874800-1701882000@fmtgezondheidszorg.nl
SUMMARY:Webinar Cybersecurity in de Medtech sector
DESCRIPTION:Op woensdag 6 december 15.00 uur organiseert brancheorganisatie FMed\, in samenwerking met Z-CERT (expertisecentrum op het gebied van cybersecurity in de zorg)\, een Webinar over cybersecurity in de Medtech sector. \nTijdens het Webinar wordt nader ingegaan op de cybersecurity-uitdagingen binnen de zorgsector. Tevens worden voorbeelden van cyberincidenten met medische apparatuur besproken en komen de rol en verantwoordelijkheden van fabrikanten & leveranciers van medische hulpmiddelen & technologie aan de orde. Daarbij wordt ingegaan op de nieuwe NIS 2-richtlijn (Network and Information Systems Security Directive – die uiterlijk 17 oktober 2024 in Nederland van kracht wordt) en de gevolgen daarvan voor medische technologiebedrijven. \nU kunt zich via email linda.huber@fmed.nl aanmelden voor dit Webinar. De kosten bedragen euro 25\,- excl. btw voor FMed lidbedrijven en euro 95\,- voor niet-leden.   
URL:https://fmtgezondheidszorg.nl/agenda/webinar-cybersecurity-in-de-medtech-sector/
LOCATION:Online
ATTACH;FMTTYPE=image/png:https://fmtgezondheidszorg.nl/wp-content/uploads/2023/11/FMed.png
ORGANIZER;CN="FMed":MAILTO:info@fmed.nl
END:VEVENT
END:VCALENDAR