BEGIN:VCALENDAR
VERSION:2.0
PRODID:-//FMT Gezondheidszorg - ECPv6.15.20//NONSGML v1.0//EN
CALSCALE:GREGORIAN
METHOD:PUBLISH
X-WR-CALNAME:FMT Gezondheidszorg
X-ORIGINAL-URL:https://fmtgezondheidszorg.nl
X-WR-CALDESC:Evenementen voor FMT Gezondheidszorg
REFRESH-INTERVAL;VALUE=DURATION:PT1H
X-Robots-Tag:noindex
X-PUBLISHED-TTL:PT1H
BEGIN:VTIMEZONE
TZID:UTC
BEGIN:STANDARD
TZOFFSETFROM:+0000
TZOFFSETTO:+0000
TZNAME:UTC
DTSTART:20210101T000000
END:STANDARD
END:VTIMEZONE
BEGIN:VEVENT
DTSTART;TZID=UTC:20221104T100000
DTEND;TZID=UTC:20221104T150000
DTSTAMP:20260425T174438
CREATED:20221009T170634Z
LAST-MODIFIED:20221009T170634Z
UID:51128-1667556000-1667574000@fmtgezondheidszorg.nl
SUMMARY:Verduurzaming begint vandaag
DESCRIPTION:Duurzaamheid moet op de agenda komen!\nDuurzaamheid is een actueel thema\, maar toch hebben veel zorgorganisaties er nog te weinig aandacht voor. Hoe zet je het duurzaamheidsproces in gang binnen je organisatie als zoveel andere thema’s de dagelijkse agenda bepalen? \nFizi\, INNAX\, Intrakoop\, NVTZ \, NVZD en Rabobank slaan handen ineen voor een inspirerend congres over duurzaamheid in de zorg. Een congres waarin we concrete handelingsperspectieven bieden om duurzaamheid als strategisch onderwerp binnen de zorg op de agenda te zetten. Dit doen we met een afwisselend programma waarin informatie\, praktische tips en best practices worden uitgewisseld met experts uit diverse vakgebieden. En dit allemaal specifiek afgestemd op management-\, directie- en bestuurdersniveau. \nProgramma\nDeze keynote sprekers praten je bij over het belang van duurzaamheid in de zorg en geven suggesties hoe je het best kunt beginnen: \n\nDiederik Gommers\, Intensivist\, afdelingshoofd bij Intensive Care Erasmus MC Sophia\nCathy van Beek\, Leading Sustainable Health Care\nMichel van Schaik\, directeur Gezondheidszorg Rabobank\nAnne Roosendaal\,de Klimaatdokter\, specialist ouderengeneeskunde\nEvelyn Brakema\, huisarts in opleiding\, medeoprichter en voorzitter van de Groene Zorg Alliantie\n\nNaast het plenaire programma zijn er vier interactieve werksessies over duurzaamheid in vastgoed en E-mobility. Daarnaast is er volop gelegenheid om te netwerken en kun je een bezoek brengen aan de inspiratiemarkt\, met onder meer MVO Nederland\, Groene Zorg Alliantie en FME Gezondheid en Zorg. \n>  Bekijk het volledige programma
URL:https://fmtgezondheidszorg.nl/agenda/verduurzaming-begint-vandaag/
LOCATION:Rabobank Auditorium\, Croeselaan 18\, Utrecht\, 3521 CB.\, Nederland
ATTACH;FMTTYPE=image/png:https://fmtgezondheidszorg.nl/wp-content/uploads/2022/10/koloperscongres-duurzaamheid.png
END:VEVENT
BEGIN:VEVENT
DTSTART;VALUE=DATE:20220924
DTEND;VALUE=DATE:20220925
DTSTAMP:20260425T174438
CREATED:20220904T155219Z
LAST-MODIFIED:20220904T155219Z
UID:50902-1663977600-1664063999@fmtgezondheidszorg.nl
SUMMARY:Groene Zorg Festival
DESCRIPTION:De zorg kan anders: klimaatneutraal\, circulair en schoon. En dat betekent meer gezondheid voor mens én planeet\, precies waar de Groene Zorg Alliantie zich voor inzet. Doe je graag mee\, maar weet je niet hoe? Of wil je verder kijken dan video calls en webinars? Wij helpen je op weg naar een nieuwe koers. Kom op zaterdag 24 september naar Utrecht voor de allereerste editie van het Groene Zorg Festival. Hier ervaar je wat groene zorg echt is\, zij aan zij met andere zorgprofessionals en experts!d\, Groene Zorg Alliantied\, \, \nWaar? Metaalkathedraal Utrecht \nWanneer?  Zaterdag 24 september van 10.30-20.00 uur (inloop vanaf 10.15 uur) \nWie?  Zorgprofessionals en alle andere geïnteresseerden in groene zorg \nWat?  Ontmoeten: face to face met andere groene zorgprofessionals \nInspiratie: boeiende sprekers en special guests \nWorkshops: leer groen denken en doen \nKunst en muziek: een nieuwe draai aan groene zorg \nEten en drinken: gezond\, duurzaam en heel erg lekker \n  \nDe Groene Zorg Alliantie geeft een krachtige stem aan duurzame zorg. We verbinden zorgprofessionals met een groen hart en geven hen een platform waar de zorg van de toekomst ontstaat. \n  \nOp het festival zal een gezonde\, plantaardige lunch worden geserveerd. Eet gezellig mee en koop je lunch ticket in de ticketshop! Zo help je ons om voor het juiste aantal mensen te cateren en verspilling te voorkomen. Kies je voor de gratis ticket zonder lunch? Houd er dan rekening mee dat je zelf je lunch mee moet brengen.
URL:https://fmtgezondheidszorg.nl/agenda/groene-zorg-festival/
LOCATION:Metaalkathedraal\, Rijksstraatweg 20\, Utrecht\, 3545 NA\, Nederland
ATTACH;FMTTYPE=image/jpeg:https://fmtgezondheidszorg.nl/wp-content/uploads/2020/07/default-image-fmt.jpg
ORGANIZER;CN="Groene Zorg Alliantie":MAILTO:info@groenezorgalliantie.nl
END:VEVENT
END:VCALENDAR