BEGIN:VCALENDAR
VERSION:2.0
PRODID:-//FMT Gezondheidszorg - ECPv6.15.20//NONSGML v1.0//EN
CALSCALE:GREGORIAN
METHOD:PUBLISH
X-WR-CALNAME:FMT Gezondheidszorg
X-ORIGINAL-URL:https://fmtgezondheidszorg.nl
X-WR-CALDESC:Evenementen voor FMT Gezondheidszorg
REFRESH-INTERVAL;VALUE=DURATION:PT1H
X-Robots-Tag:noindex
X-PUBLISHED-TTL:PT1H
BEGIN:VTIMEZONE
TZID:UTC
BEGIN:STANDARD
TZOFFSETFROM:+0000
TZOFFSETTO:+0000
TZNAME:UTC
DTSTART:20200101T000000
END:STANDARD
END:VTIMEZONE
BEGIN:VEVENT
DTSTART;TZID=UTC:20210330T130000
DTEND;TZID=UTC:20210330T143000
DTSTAMP:20260425T133632
CREATED:20210222T191330Z
LAST-MODIFIED:20210222T191330Z
UID:47942-1617109200-1617114600@fmtgezondheidszorg.nl
SUMMARY:NEN/VWS webinar Elektronische gegevensuitwisseling in de zorg
DESCRIPTION:Gratis webinar ‘Samenwerken aan dé bouwstenen voor Elektronische Gegevensuitwisseling in de Zorg’ (EGIZ)\nEen essentieel onderdeel van het kunnen verlenen van goede\, toekomstbestendige en betaalbare zorg\, is dat zorgverleners beschikken over adequate\, actuele en uniforme informatie.\nHet ministerie van VWS werkt aan de Wet Elektronische gegevensuitwisseling in de zorg (Wegiz). Deze wet stelt dat specifieke gegevensuitwisselingentussen zorgverleners verplicht elektronisch moeten verlopen.\n\nNEN heeft van het ministerie van VWS opdracht gekregen om samen met het zorgveld een stelsel van NEN-normen en certificatieschema’s te ontwikkelen die de basis gaan vormen om deze elektronische gegevensuitwisseling mogelijk te maken.
URL:https://fmtgezondheidszorg.nl/agenda/nen-vws-webinar-elektronische-gegevensuitwisseling-in-de-zorg/
LOCATION:Online of op locatie
ATTACH;FMTTYPE=image/jpeg:https://fmtgezondheidszorg.nl/wp-content/uploads/2021/02/EGIZ.jpg
END:VEVENT
END:VCALENDAR