BEGIN:VCALENDAR
VERSION:2.0
PRODID:-//FMT Gezondheidszorg - ECPv6.15.20//NONSGML v1.0//EN
CALSCALE:GREGORIAN
METHOD:PUBLISH
X-WR-CALNAME:FMT Gezondheidszorg
X-ORIGINAL-URL:https://fmtgezondheidszorg.nl
X-WR-CALDESC:Evenementen voor FMT Gezondheidszorg
REFRESH-INTERVAL;VALUE=DURATION:PT1H
X-Robots-Tag:noindex
X-PUBLISHED-TTL:PT1H
BEGIN:VTIMEZONE
TZID:UTC
BEGIN:STANDARD
TZOFFSETFROM:+0000
TZOFFSETTO:+0000
TZNAME:UTC
DTSTART:20220101T000000
END:STANDARD
END:VTIMEZONE
BEGIN:VEVENT
DTSTART;TZID=UTC:20230622T160000
DTEND;TZID=UTC:20230622T190000
DTSTAMP:20260425T134530
CREATED:20230526T050526Z
LAST-MODIFIED:20230526T143016Z
UID:52483-1687449600-1687460400@fmtgezondheidszorg.nl
SUMMARY:Hygiene and sustainability in endoscopy - finding the balance
DESCRIPTION:Endoscopy is one of the largest polluters in healthcare[1]\, therefore healthcare providers and medical device manufacturers alike need to recognize the need for action to tackle climate change. \nPENTAX Medical will be hosting their third Hygiene Event\, “Hygiene and Sustainability in Endoscopy – finding the balance” on June 22\, from 16:00 – 19:00 CET. \nDuring this year’s event\, eight experts will dive into the topic of sustainability\, taking a closer look at how the field of endoscopy can balance environmental concerns with innovative solutions. Key topics and speakers you can expect: \n\nHow to become sustainable\n\nProf. Shaji Sebastian (Hull University Teaching Hospitals\, UK)\, Prof. Heiko Pohl (Dartmouth Geisel School of Medicine Veterans Affairs Medical Center\, USA)\, Prof. Raf Bisschops (Leuven University Hospital\, Belgium) \n\nMinimising the risk of infection in reprocessing\n\nProf. Marco Bruno (Erasmus UMC Rotterdam\, the Netherlands)\, Ulrike Beilenhoff (ESGENA) \n\nSmart and sustainable innovations in reprocessing\n\nDr. Stephane Koch (Besançon University Hospital\, France)\, Dr. Guido van den Broek (Radboud UMC Nijmegen\, the Netherlands)\, Paul J. Caesar (PENTAX Medical) \nThe event will be taking place digitally\, so you can simply register online via this link: https://www.digitaleventplatform.com/pentaxmedical. Please note that the event will be held in English. \n[1] Siau K\, Hayee B\, Gayam S. Endoscopy’s current carbon footprint. Techn Innov Gastrointest Endosc 2021; 23: 344–352. doi:10.1016/j. tige.2021.06.005
URL:https://fmtgezondheidszorg.nl/agenda/hygiene-and-sustainability-in-endoscopy-finding-the-balance/
LOCATION:Online
ATTACH;FMTTYPE=image/png:https://fmtgezondheidszorg.nl/wp-content/uploads/2023/05/Pentax-event.png
END:VEVENT
END:VCALENDAR