BEGIN:VCALENDAR
VERSION:2.0
PRODID:-//FMT Gezondheidszorg - ECPv6.15.20//NONSGML v1.0//EN
CALSCALE:GREGORIAN
METHOD:PUBLISH
X-ORIGINAL-URL:https://fmtgezondheidszorg.nl
X-WR-CALDESC:Evenementen voor FMT Gezondheidszorg
REFRESH-INTERVAL;VALUE=DURATION:PT1H
X-Robots-Tag:noindex
X-PUBLISHED-TTL:PT1H
BEGIN:VTIMEZONE
TZID:UTC
BEGIN:STANDARD
TZOFFSETFROM:+0000
TZOFFSETTO:+0000
TZNAME:UTC
DTSTART:20210101T000000
END:STANDARD
END:VTIMEZONE
BEGIN:VEVENT
DTSTART;TZID=UTC:20221109T080000
DTEND;TZID=UTC:20221111T170000
DTSTAMP:20260425T142439
CREATED:20221008T121814Z
LAST-MODIFIED:20221008T121814Z
UID:51093-1667980800-1668186000@fmtgezondheidszorg.nl
SUMMARY:Halfjaarcongres HL7 Nederland met FHIR x Nuts hackathon
DESCRIPTION:Halfjaarcongres HL7 \n\nHL7 staat voor Health Level Seven : de wereldwijde standaard voor veilige\, elektronische informatie-uitwisseling in de zorg. De HL7 standaard definieert alle soorten gegevens in alle zorgdomeinen en zorgsectoren. De internationale HL7 organisatie\, die in meer dan 30 landen actief is\, ontwikkelt en beheert de standaard. De Stichting HL7 Nederland is de landelijke organisatie.\nDe missie van HL7 Nederland is om modellen en standaarden te leveren voor informatie-uitwisseling en meervoudig gebruik van informatie in de zorg door zorgverleners en patiënten. Hiermee ondersteunt HL7 de zorgsector bij het verbeteren van de zorg voor en met patiënten en cliënten. Dat gebeurt door het optimaliseren van de zorgprocessen\, het bevorderen van kwaliteit en eenduidigheid in de zorg en kennisuitwisseling tussen alle belanghebbenden. \nHackathon\n\nOp het halfjaarlijkse congres van HL7 Nederland van 9 tot 11 november zal de FHIR x Nuts hackathon plaatsvinden. Tijdens de hackathon zullen op basis van FHIR- en Nuts-standaarden gegevensuitwisselingen rondom drie uiteenlopende use cases worden gerealiseerd. Het testplatform van Interoplab zal de hackathon faciliteren. \nDe geselecteerde use cases: \n\n‘Avond-\, Nacht- en Weekendzorg’ door Achterhoeks Informatieberaad\n‘Verwijzing Medisch-Specialistische Zorg (BgZ)’ door Taskforce Samen Vooruit\n‘Voorschrijven\, ter hand stellen en toedienen van medicatie’ door Amstelland Zorg\n\nDe hackathon zal plaatsvinden van woensdag 9 t/m 11 november tijdens het halfjaarlijkse congres van HL7 Nederland in hotel De Witte Bergen in Hilversum. Voorafgaand aan de hackathon zullen online twee voorbereidende sessies worden georganiseerd. Leveranciers en andere experts die een bijdrage willen leveren aan de realisatie van een van de drie use cases kunnen zich vanaf 1 oktober inschrijven via https://hl7wgm.interoplab.eu/.
URL:https://fmtgezondheidszorg.nl/agenda/halfjaarcongres-hl7-nederland-met-fhir-x-nuts-hackathon/
LOCATION:Van der Valk hotel De Witte Bergen\, Rijksweg 2 Laren\, Eemnes\, 3755 MV
ATTACH;FMTTYPE=image/jpeg:https://fmtgezondheidszorg.nl/wp-content/uploads/2022/10/HL7_Vlag_2019_350x350.jpg
ORGANIZER;CN="HL7 Nederland":MAILTO:info@hl7.nl
END:VEVENT
END:VCALENDAR