BEGIN:VCALENDAR
VERSION:2.0
PRODID:-//FMT Gezondheidszorg - ECPv6.15.20//NONSGML v1.0//EN
CALSCALE:GREGORIAN
METHOD:PUBLISH
X-ORIGINAL-URL:https://fmtgezondheidszorg.nl
X-WR-CALDESC:Evenementen voor FMT Gezondheidszorg
REFRESH-INTERVAL;VALUE=DURATION:PT1H
X-Robots-Tag:noindex
X-PUBLISHED-TTL:PT1H
BEGIN:VTIMEZONE
TZID:UTC
BEGIN:STANDARD
TZOFFSETFROM:+0000
TZOFFSETTO:+0000
TZNAME:UTC
DTSTART:20200101T000000
END:STANDARD
END:VTIMEZONE
BEGIN:VEVENT
DTSTART;TZID=UTC:20210518T163000
DTEND;TZID=UTC:20210518T173000
DTSTAMP:20260425T234603
CREATED:20210516T124925Z
LAST-MODIFIED:20210516T125411Z
UID:48622-1621355400-1621359000@fmtgezondheidszorg.nl
SUMMARY:Webinar MDR In-huis-ontwikkeling | 18 mei 2021
DESCRIPTION:Op 26 mei 2021 wordt nieuwe Europese wetgeving van kracht op het gebied van medische hulpmiddelen (Medical Device Regulation\, MDR). Wat betekent dit voor zorginstellingen en welke veranderingen zijn relevant voor het werk van artsen\, zorgmedewerkers en medewerkers van ondersteunende afdelingen? Hierover organiseren de NVZ\, de Nederlandse Federatie van Universitair Medische Centra (NFU)\, Zelfstandige Klinieken Nederland (ZKN) en de Federatie Medische Specialisten (FMS) een reeks webinars.  \nDit derde webinar gaat over het ontwikkelen van medische hulpmiddelen binnen een zorginstelling. Je krijgt duidelijkheid over de definitie van in-huis ontwikkelen\, over de voorwaarden waaronder dit mag plaatsvinden en welke verplichtingen hiervoor gelden. \nVoor wie?\n\nArtsen;\nVerpleegkundigen;\n(Software) ontwikkelaars;\nVervaardigers;\nBiomedisch technologen;\nKlinisch fysici;\nKlinisch technologen;\nMedisch technici;\nOnderzoekers;\nLaboratorium specialisten;\nLaboranten\nMedewerkers van ondersteunende afdelingen die op enigerlei wijze te maken hebben met het aanpassen en ontwikkelen van medische hulpmiddelen.\n\nBen je betrokken bij de ontwikkeling en vervaardiging van medische hulpmiddelen of ben je daarvan eindgebruiker\, dan biedt dit webinar je de gelegenheid om actuele en relevante kennis op te doen over de impact die de MDR hierop heeft. \nWat kun je verwachten?\nIn een programma van een uur nemen we je mee in de eisen die de MDR stelt aan het in-huis ontwikkelen van medische hulpmiddelen. De impact van de nieuwe wetgeving op zorginstellingen lichten we toe\, net als de voorwaarden waaronder het zelf ontwikkelen van medische hulpmiddelen mag plaatsvinden en de verplichtingen die hierop van toepassing zijn. Ook is er ruimte om vragen te stellen. Na afloop worden de vragen en antwoorden beschikbaar gesteld. Meld je aan voor het webinar op 18 mei. \nBekijk de eerdere webinars over dit thema terug. Of bekijk de volgende webinars over MDR die komende tijd plaatsvinden.
URL:https://fmtgezondheidszorg.nl/agenda/webinar-mdr-in-huis-ontwikkeling-26-mei-2021/
LOCATION:Online of op locatie
ATTACH;FMTTYPE=image/png:https://fmtgezondheidszorg.nl/wp-content/uploads/2021/05/Med-apparatuur-MDR.png
END:VEVENT
END:VCALENDAR