BEGIN:VCALENDAR
VERSION:2.0
PRODID:-//FMT Gezondheidszorg - ECPv6.15.20//NONSGML v1.0//EN
CALSCALE:GREGORIAN
METHOD:PUBLISH
X-ORIGINAL-URL:https://fmtgezondheidszorg.nl
X-WR-CALDESC:Evenementen voor FMT Gezondheidszorg
REFRESH-INTERVAL;VALUE=DURATION:PT1H
X-Robots-Tag:noindex
X-PUBLISHED-TTL:PT1H
BEGIN:VTIMEZONE
TZID:UTC
BEGIN:STANDARD
TZOFFSETFROM:+0000
TZOFFSETTO:+0000
TZNAME:UTC
DTSTART:20220101T000000
END:STANDARD
END:VTIMEZONE
BEGIN:VEVENT
DTSTART;VALUE=DATE:20230403
DTEND;VALUE=DATE:20230407
DTSTAMP:20260425T170839
CREATED:20221113T123452Z
LAST-MODIFIED:20230221T132341Z
UID:51338-1680480000-1680825599@fmtgezondheidszorg.nl
SUMMARY:The Future of Medical Imaging and Radiotherapy: #FMIR 2023
DESCRIPTION:Congres radiologie\, radiotherapie en nucleaire geneeskunde\nHet congres ‘The Future of Medical Imaging and Radiotherapy’ is het evenement waar alle werelden binnen de radiologie\, nucleaire geneeskunde en radiotherapie samenkomen. Dagelijks werken radiologen\, radiotherapeuten\, nucleair geneeskundigen\, laboranten/mbb’ers\, klinisch fysici\, medisch technologen\, physician assistants\, applicatie technici\, applicatiebeheerders\, IT specialisten\, medisch informatici\, administratief medewerkers\, secretaresses\, dokters assistenten\, kwaliteitsmedewerkers\, managers en vele anderen samen aan top patientenzorg. En ook zijn er veel bedrijven betrokken bij de ontwikkeling van de vakgebieden en specialismen. \nVanuit de overtuiging dat alleen samen met elkaar de kwaliteit kan worden geborgd en ontwikkelingen tot stand kunnen komen is het congres bedoeld om alle relevante kennis en expertise samen te brengen. Laat je inspireren\, neem deel aan de vele educatieve sessies\, workshops en trainingssessies tijdens “The Future of Medical Imaging and Radiotherapy”. Voor iedereen is er een mooi programma te volgen\, elke dag zijn er prioriteitsthema’s waar je aan deel kunt nemen en kun je in contact komen met de belangrijke bedrijven binnen jouw werkgebied.
URL:https://fmtgezondheidszorg.nl/agenda/fmir-2023/
LOCATION:Van der Valk Hotel\, Almere\, Veluwezoom 45\, Almere\, 1327AK\, Nederland
ATTACH;FMTTYPE=image/png:https://fmtgezondheidszorg.nl/wp-content/uploads/2022/11/FMIR-logo2.png
END:VEVENT
END:VCALENDAR