BEGIN:VCALENDAR
VERSION:2.0
PRODID:-//FMT Gezondheidszorg - ECPv6.15.20//NONSGML v1.0//EN
CALSCALE:GREGORIAN
METHOD:PUBLISH
X-ORIGINAL-URL:https://fmtgezondheidszorg.nl
X-WR-CALDESC:Evenementen voor FMT Gezondheidszorg
REFRESH-INTERVAL;VALUE=DURATION:PT1H
X-Robots-Tag:noindex
X-PUBLISHED-TTL:PT1H
BEGIN:VTIMEZONE
TZID:UTC
BEGIN:STANDARD
TZOFFSETFROM:+0000
TZOFFSETTO:+0000
TZNAME:UTC
DTSTART:20220101T000000
END:STANDARD
END:VTIMEZONE
BEGIN:VEVENT
DTSTART;TZID=UTC:20230414T080000
DTEND;TZID=UTC:20230415T170000
DTSTAMP:20260421T125755
CREATED:20221113T125931Z
LAST-MODIFIED:20221113T125931Z
UID:51342-1681459200-1681578000@fmtgezondheidszorg.nl
SUMMARY:De Nationale Carrièrebeurs
DESCRIPTION:De Nationale Carrièrebeurs en een groot evenement waar topwerkgevers zich presenteren en potentiële medewerkers vinden. Voor mensen die zich op een vervolgstap in hun loopbaan oriënteren is er niet alleen de kans op een prima match\, maar ook een uitgebreid programma om skills en competenties te verbeteren. Tijdens De Nationale Carrièrebeurs kun je gratis heel veel carrièregerichte & vakinhoudelijke workshops\, presentaties en masterclasses volgen. In 2023 zal Dionne Stax de host zijn tijdens De Nationale Carrièrebeurs.
URL:https://fmtgezondheidszorg.nl/agenda/de-nationale-carrierebeurs/
LOCATION:RAI\, Europaplein 24\, Amsterdam\, 1078 GZ\, Nederland
ATTACH;FMTTYPE=image/jpeg:https://fmtgezondheidszorg.nl/wp-content/uploads/2022/11/carrierebeurs.jpg
END:VEVENT
END:VCALENDAR