BEGIN:VCALENDAR
VERSION:2.0
PRODID:-//FMT Gezondheidszorg - ECPv6.15.20//NONSGML v1.0//EN
CALSCALE:GREGORIAN
METHOD:PUBLISH
X-WR-CALNAME:FMT Gezondheidszorg
X-ORIGINAL-URL:https://fmtgezondheidszorg.nl
X-WR-CALDESC:Evenementen voor FMT Gezondheidszorg
REFRESH-INTERVAL;VALUE=DURATION:PT1H
X-Robots-Tag:noindex
X-PUBLISHED-TTL:PT1H
BEGIN:VTIMEZONE
TZID:UTC
BEGIN:STANDARD
TZOFFSETFROM:+0000
TZOFFSETTO:+0000
TZNAME:UTC
DTSTART:20200101T000000
END:STANDARD
END:VTIMEZONE
BEGIN:VEVENT
DTSTART;TZID=UTC:20210901T125500
DTEND;TZID=UTC:20210901T140000
DTSTAMP:20260425T142433
CREATED:20210712T052205Z
LAST-MODIFIED:20210712T052205Z
UID:48899-1630500900-1630504800@fmtgezondheidszorg.nl
SUMMARY:NVDO Maintenance webinar
DESCRIPTION:Maintenance webinar – powered by NVDO en BLM Wegenbouw\nCalamiteiten Onderhoud; hoe pak je dat aan?\nHet klinkt vreemd\, maar calamiteiten zijn natuurlijk een zekerheid. Niemand zit erop te wachten\, maar ze zullen altijd optreden. Vanuit de jarenlange ervaring van BLM Wegenbouw op Chemelot hebben zij geleerd om steeds bewust te zijn van de waarde van het primaire proces dat er op een locatie verloopt en de invloed van een calamiteit op dat specifieke proces en de waarde daarvan te bepalen. Deze manier van werken is door BLM vanuit Chemelot meegenomen naar hun publieke en private opdrachtgevers buiten Chemelot.\nDe aanpak is gericht op acceptatie\, beheersing en sturing op waarde. BLM bepaalt onder andere hun invloed op het beheersen en oplossen van de calamiteit en wegen de (maatschappelijke)kosten – baten af. Zo leren zij uit elke calamiteit. En die lessen delen we graag tijdens dit eenmalige en unieke Maintenance Webinar. \nTijdens dit Webinar: \n\nLeer je anders te kijken naar het onderliggende risicomanagement\nLeer je waarom het goed is waarde te hechten aan data over en uit calamiteiten\nEn komt de vraag aan bod: Moeten we blijven reageren of kunnen we sturen? \n\nSpreker Roger Feller\, BLM Wegenbouw\nRoger Feller is sinds 1998 actief in de Infrasector en heeft veel ervaring opgedaan als assetmanager voor bedrijventerrein Fresh Park Venlo en als adviseur voor onder andere het Havenbedrijf Moerdijk\, de Radboud Universiteit en het Radboud UMC. Sinds januari van dit jaar is Roger verbonden aan BLM en combineert hij zijn kennis en kunde met de jarenlange ervaring van BLM op het Chemelot-terrein. \n>  Voor meer informatie klik hier
URL:https://fmtgezondheidszorg.nl/agenda/nvdo-maintenance-webinar/
LOCATION:Online of op locatie
ATTACH;FMTTYPE=image/jpeg:https://fmtgezondheidszorg.nl/wp-content/uploads/2021/07/Onderhoud2.jpg
ORGANIZER;CN="NVDO":MAILTO:info@nvdo.nl
END:VEVENT
END:VCALENDAR