BEGIN:VCALENDAR
VERSION:2.0
PRODID:-//FMT Gezondheidszorg - ECPv6.15.20//NONSGML v1.0//EN
CALSCALE:GREGORIAN
METHOD:PUBLISH
X-ORIGINAL-URL:https://fmtgezondheidszorg.nl
X-WR-CALDESC:Evenementen voor FMT Gezondheidszorg
REFRESH-INTERVAL;VALUE=DURATION:PT1H
X-Robots-Tag:noindex
X-PUBLISHED-TTL:PT1H
BEGIN:VTIMEZONE
TZID:UTC
BEGIN:STANDARD
TZOFFSETFROM:+0000
TZOFFSETTO:+0000
TZNAME:UTC
DTSTART:20220101T000000
END:STANDARD
END:VTIMEZONE
BEGIN:VEVENT
DTSTART;VALUE=DATE:20230511
DTEND;VALUE=DATE:20230512
DTSTAMP:20260425T135205
CREATED:20230118T074428Z
LAST-MODIFIED:20230118T115829Z
UID:51619-1683763200-1683849599@fmtgezondheidszorg.nl
SUMMARY:Mensgerichte Zorg Conferentie 2023
DESCRIPTION:De toekomst van de zorg is onzeker. \nMaar stel je nu eens voor dat we met een open blik kijken naar vooruitgang op basis van creativiteit en innovatie. En stel je voor dat daarmee werk leuker en zorg beter wordt. Hoe voelt dat? \nTijdens de Mensgerichte Zorg Conferentie 2023\, met het thema ‘Stel je voor’ word je geïnspireerd met nieuwe inzichten en praktijkvoorbeelden\, die je in beweging brengen en aanzetten om op een nieuwe manier naar zorg te kijken. \n> Informatie over programma en aanmelding \n 
URL:https://fmtgezondheidszorg.nl/agenda/mensgerichte-zorg-conferentie-2023/
LOCATION:Beatrix Theater\, Jaarbeursplein 6a\, Utrecht\, 3521 AL\, Nederland
ATTACH;FMTTYPE=image/png:https://fmtgezondheidszorg.nl/wp-content/uploads/2023/01/Planetree-Mensgerichte-Zorg-2023-1.png
ORGANIZER;CN="Planetree":MAILTO:info@planetree.nl
END:VEVENT
END:VCALENDAR