BEGIN:VCALENDAR
VERSION:2.0
PRODID:-//FMT Gezondheidszorg - ECPv6.15.20//NONSGML v1.0//EN
CALSCALE:GREGORIAN
METHOD:PUBLISH
X-ORIGINAL-URL:https://fmtgezondheidszorg.nl
X-WR-CALDESC:Evenementen voor FMT Gezondheidszorg
REFRESH-INTERVAL;VALUE=DURATION:PT1H
X-Robots-Tag:noindex
X-PUBLISHED-TTL:PT1H
BEGIN:VTIMEZONE
TZID:UTC
BEGIN:STANDARD
TZOFFSETFROM:+0000
TZOFFSETTO:+0000
TZNAME:UTC
DTSTART:20220101T000000
END:STANDARD
END:VTIMEZONE
BEGIN:VEVENT
DTSTART;VALUE=DATE:20231109
DTEND;VALUE=DATE:20231110
DTSTAMP:20260425T152905
CREATED:20230709T063846Z
LAST-MODIFIED:20230709T063846Z
UID:52757-1699488000-1699574399@fmtgezondheidszorg.nl
SUMMARY:Symposium Ziekenhuisinfecties in Beeld door PREZIES
DESCRIPTION:Tijdens het ochtendprogramma zullen verschillende presentaties worden gehouden waarbij naast het jaaroverzicht van PREZIES\, de geautomatiseerde surveillance ziekenhuisinfecties ook onderwerpen uit de praktijk aan bod zullen komen. Het ochtendprogramma is zowel fysiek als digitaal te volgen. \nTijdens het middagprogramma worden verschillende workshops aangeboden\, die alleen fysiek kunnen worden gevolgd. De keuze uit workshops vindt u onderaan het programma. \nProgramma\n09:00 – 09:30 uur   Inloop\n09:30 – 09:45 uur   Opening (Stephanie van Rooden)\n09:45 – 10:00 uur   Jaaroverzicht PREZIES\n10:00 – 11:00 uur   Automatisering surveillance ziekenhuisinfecties (PREZIES)\n11:00 – 11:15 uur   Pauze \n11:15 – 11:45 uur   Flebitisstudie (Nienke Dijkstra\, UMCG)\n11:45 – 12:15 uur   Presentatie over achtergronden infecties door Dr. Sander Visser\n12:15 – 12:45 uur   Wetenschappelijk input vanuit de deelnemers\n12:45 – 13:45 uur   Lunch \n13:45 – 14:45 uur   Workshops ronde 1\n14:45 – 14:50 uur   Wisselen\n14:50 – 15:50 uur   Workshops ronde 2\n15:50 – 16:00 uur   Plenaire  afsluiting \nWorkshops \n\nUitvoerende surveillance module POWI (casusbespreking)\nUitvoerende surveillance module Prevalentieonderzoek (casusbespreking)\nAutomatische surveillance module POWI\nInterne rapportages\n\nHeeft u interesse in deze interessante dag over surveillance van ziekenhuisinfecties meld u dan snel aan via het aanmeldformulier. \n> Hier vindt u meer informatie over de surveillancemogelijkheden binnen PREZIES
URL:https://fmtgezondheidszorg.nl/agenda/symposium-ziekenhuisinfecties-in-beeld-door-prezies/
LOCATION:RIVM\, Antonie van Leeuwenhoeklaan 9\, Bilthoven\, 3721 MA
ATTACH;FMTTYPE=image/jpeg:https://fmtgezondheidszorg.nl/wp-content/uploads/2023/07/shutterstock_741433855-ok_web.jpg
ORGANIZER;CN="PREZIES":MAILTO:prezies@rivm.nl
END:VEVENT
END:VCALENDAR