BEGIN:VCALENDAR
VERSION:2.0
PRODID:-//FMT Gezondheidszorg - ECPv6.15.20//NONSGML v1.0//EN
CALSCALE:GREGORIAN
METHOD:PUBLISH
X-ORIGINAL-URL:https://fmtgezondheidszorg.nl
X-WR-CALDESC:Evenementen voor FMT Gezondheidszorg
REFRESH-INTERVAL;VALUE=DURATION:PT1H
X-Robots-Tag:noindex
X-PUBLISHED-TTL:PT1H
BEGIN:VTIMEZONE
TZID:UTC
BEGIN:STANDARD
TZOFFSETFROM:+0000
TZOFFSETTO:+0000
TZNAME:UTC
DTSTART:20210101T000000
END:STANDARD
END:VTIMEZONE
BEGIN:VEVENT
DTSTART;TZID=UTC:20220630T110000
DTEND;TZID=UTC:20220630T120000
DTSTAMP:20260425T133904
CREATED:20220518T064003Z
LAST-MODIFIED:20220518T064003Z
UID:50512-1656586800-1656590400@fmtgezondheidszorg.nl
SUMMARY:Intrakoop Webinar Rendementsverbetering zorgvastgoed
DESCRIPTION:Zorginstellingen staan steeds vaker voor de uitdaging om in te spelen op veranderingen op het gebied van wetgeving\, tariefstellingen\, duurzaamheid\, marktvraag en bijkomend de coronapandemie. Deze vaak ingrijpende veranderingen leggen onder andere steeds meer druk op de financieringscapaciteit van zorginstellingen. Daarnaast hebben externe partijen\, zoals bijvoorbeeld banken en zorgkantoren\, steeds meer aandacht voor de financiële prestaties van zorginstellingen. \nAlle reden dus om te zorgen voor een positief bedrijfsresultaat. Het bedrijfsresultaat wordt in belangrijke mate door de vastgoedexploitatie beïnvloed. Daarom organiseert Intrakoop een webinar ‘Verbeter het rendement van jouw zorgvastgoed’. Met suggesties om het economische rendement van zorgvastgoed te verbeteren. Deze handvatten helpen om de opbrengsten uit de vastgoedexploitatie te verhogen en de exploitatiekosten juist te verlagen. Zowel voor zorgvastgoed dat wordt gehuurd als in eigendom is. \nVoor wie?\nDit webinar is bedoeld voor facilitair managers\, managers bedrijfsvoering\, hoofden inkoop of andere medewerkers die verantwoordelijk zijn voor het beheer van vastgoed bij een zorgorganisatie. \nAanmelding\n>  Aanmelden kan via deze Intrakoop-webpagina
URL:https://fmtgezondheidszorg.nl/agenda/intrakoop-webinar-rendementsverbetering-zorgvastgoed/
LOCATION:Online
ATTACH;FMTTYPE=image/png:https://fmtgezondheidszorg.nl/wp-content/uploads/2022/05/ziekenhuisvastgoed-e1631108087478-1.png
ORGANIZER;CN="Intrakoop":MAILTO:servicedesk@intrakoop.nl
END:VEVENT
END:VCALENDAR