BEGIN:VCALENDAR
VERSION:2.0
PRODID:-//FMT Gezondheidszorg - ECPv6.15.20//NONSGML v1.0//EN
CALSCALE:GREGORIAN
METHOD:PUBLISH
X-ORIGINAL-URL:https://fmtgezondheidszorg.nl
X-WR-CALDESC:Evenementen voor FMT Gezondheidszorg
REFRESH-INTERVAL;VALUE=DURATION:PT1H
X-Robots-Tag:noindex
X-PUBLISHED-TTL:PT1H
BEGIN:VTIMEZONE
TZID:UTC
BEGIN:STANDARD
TZOFFSETFROM:+0000
TZOFFSETTO:+0000
TZNAME:UTC
DTSTART:20200101T000000
END:STANDARD
END:VTIMEZONE
BEGIN:VEVENT
DTSTART;TZID=UTC:20210526T150000
DTEND;TZID=UTC:20210526T160000
DTSTAMP:20260425T184335
CREATED:20210504T073650Z
LAST-MODIFIED:20210504T073650Z
UID:48583-1622041200-1622044800@fmtgezondheidszorg.nl
SUMMARY:Webinar rookverspreiding
DESCRIPTION:Voor iedereen die zich bezighoudt met brandveiligheid in zorginstellingen\, organiseert De Zorg Brandveilig op woensdag 26 mei 2021 het webinar ‘Rookverspreiding’. Van 15-00 tot 16-00 uur gaan we in gesprek met Lieuwe de Witte van het Instituut Fysieke Veiligheid\, over het onderzoek naar rookverspreiding. \nDit onderzoek\, dit zomer 2019 werd uitgevoerd\, leverde nieuwe inzichten op als het gaat om brandveiligheid\, die ook te vertalen zijn naar de zorg. Tijdens het webinar worden de inzichten verdiept en komen belangrijke lessen rond rookverspreiding voor de zorg aan bod. \nVragen vooraf\nDeelnemers kunnen vooraf en tijdens het webinar vragen stellen\, die zo veel mogelijk beantwoord worden. Bij inschrijving is het mogelijk alvast een eerste vraag stellen over het thema. Als een niet beantwoord wordt tijdens het webinar\, krijgen deelnemers achteraf alsnog antwoord in een nagezonden Q&A. \nHet webinar is gratis te volgen via Microsoft Teams. Vlak voor het webinar ontvangen deelnemers een link. Aanmelden kan via deze link.
URL:https://fmtgezondheidszorg.nl/agenda/webinar-rookverspreiding/
ATTACH;FMTTYPE=image/jpeg:https://fmtgezondheidszorg.nl/wp-content/uploads/2021/05/smoke-detector-235123_1280.jpg
END:VEVENT
END:VCALENDAR