BEGIN:VCALENDAR
VERSION:2.0
PRODID:-//FMT Gezondheidszorg - ECPv6.15.20//NONSGML v1.0//EN
CALSCALE:GREGORIAN
METHOD:PUBLISH
X-WR-CALNAME:FMT Gezondheidszorg
X-ORIGINAL-URL:https://fmtgezondheidszorg.nl
X-WR-CALDESC:Evenementen voor FMT Gezondheidszorg
REFRESH-INTERVAL;VALUE=DURATION:PT1H
X-Robots-Tag:noindex
X-PUBLISHED-TTL:PT1H
BEGIN:VTIMEZONE
TZID:UTC
BEGIN:STANDARD
TZOFFSETFROM:+0000
TZOFFSETTO:+0000
TZNAME:UTC
DTSTART:20220101T000000
END:STANDARD
END:VTIMEZONE
BEGIN:VEVENT
DTSTART;TZID=UTC:20230602T133000
DTEND;TZID=UTC:20230602T170000
DTSTAMP:20260425T170354
CREATED:20230125T124005Z
LAST-MODIFIED:20230125T125431Z
UID:51665-1685712600-1685725200@fmtgezondheidszorg.nl
SUMMARY:nxthlth. Security 2023
DESCRIPTION:Waar staat de Nederlandse zorg m.b.t. de veiligheid van de (patiënt) gegevens? Hoe gaan we om met de ontwikkelingen op het gebied van hacken\, datalekken\, infrastructuur beveiliging. We delen steeds meer data maar hoe houden we het veilig? En als het misgaat\, hoe reageren we dan? \nIn nxthlth. Security 2023 krijgt u informatie aan de hand van use cases\, inspirerende bijdragen en verrassende keynotes. Ook is er uiteraard veel gelegenheid om met elkaar veilig van gedachten te wisselen. \nSprekers zijn o.m.: \n\n\n\n\n\n\n\nDaan Brink\nVoormalig Commanding Officer NLD Special Forces Regiment\nManaging Partner\, Proximities Risk Consultancy\n\n\n\n\n\n\n\n\n\n\n\n\n\n\nDaniel van Slochteren\nCIO (Chief Innovation Officer)\, Open Line\n\n> Info over programma en aanmelding
URL:https://fmtgezondheidszorg.nl/agenda/nxthlth-security-2023/
LOCATION:Beeld & Geluid\, Hilversum\, Media Parkboulevard 1\, Hilversum\, 1217 WE\, Nederland
ATTACH;FMTTYPE=image/png:https://fmtgezondheidszorg.nl/wp-content/uploads/2022/10/nxthlth-klein.png
ORGANIZER;CN="Cognicum":MAILTO:info@cognicum.com
END:VEVENT
END:VCALENDAR