BEGIN:VCALENDAR
VERSION:2.0
PRODID:-//FMT Gezondheidszorg - ECPv6.15.20//NONSGML v1.0//EN
CALSCALE:GREGORIAN
METHOD:PUBLISH
X-WR-CALNAME:FMT Gezondheidszorg
X-ORIGINAL-URL:https://fmtgezondheidszorg.nl
X-WR-CALDESC:Evenementen voor FMT Gezondheidszorg
REFRESH-INTERVAL;VALUE=DURATION:PT1H
X-Robots-Tag:noindex
X-PUBLISHED-TTL:PT1H
BEGIN:VTIMEZONE
TZID:UTC
BEGIN:STANDARD
TZOFFSETFROM:+0000
TZOFFSETTO:+0000
TZNAME:UTC
DTSTART:20230101T000000
END:STANDARD
END:VTIMEZONE
BEGIN:VEVENT
DTSTART;TZID=UTC:20240228T103000
DTEND;TZID=UTC:20240228T170000
DTSTAMP:20260425T184204
CREATED:20231114T151116Z
LAST-MODIFIED:20231123T093155Z
UID:53320-1709116200-1709139600@fmtgezondheidszorg.nl
SUMMARY:TNO symposium P3Venti
DESCRIPTION:Ventilatie tegen virusverspreiding\nStel dat er een pandemie dreigt. Dan wil je als instelling voor langdurige zorg paraat zijn en afgewogen beslissingen kunnen nemen over te nemen maatregelen. Vragen die hierbij spelen zijn: kan ventilatie besmettingen beperken of voorkomen? Welke maatregelen zijn daarbij het meest effectief? Is het slim om een ander ventilatiesysteem aan te schaffen? \nOm gefundeerde kennis te hebben over hoe virussen precies worden overgedragen voert TNO momenteel het Programma Pandemische Paraatheid en Ventilatie (P3Venti) uit. Het onderzoek richt zich op ventilatie in instellingen voor langdurige zorg\, omdat daar veel kwetsbare mensen samenleven. \nP3Venti omvat drie soorten onderzoek: technisch-inhoudelijk\, biomedisch en onderzoek naar implementatie en beleidsvorming. Er worden observaties gedaan in operationele omstandigheden. Bewoners van zorginstellingen worden geïnterviewd en met computermodellen wordt informatie vergaard over blootstellingsrisico’s en het effect van ventilatiemaatregelen en luchtreiniging hierop.\nBij het biomedisch onderzoek worden de levensvatbaarheid en besmettelijkheid van virusdragende deeltjes in relatie tot tijd en grootteverdeling onderzocht. Alle uitkomsten worden vervolgens gecombineerd met beleids- en sociaalwetenschappelijke methoden om zo tot een handelingsperspectief te komen. \nDe kennis die met P3Venti wordt opgedaan wordt verwerkt in direct toepasbaar advies\, methoden en instrumenten voor professionals in de langdurige zorg. Dit helpt bij het maken van beleid of investeringsbeslissingen. Zo kun je ventilatie effectief inzetten als maatregel om paraat te zijn bij een pandemie. \n28 februari P3Venti Symposium\nBent u betrokken bij de directie\, het vastgoedmanagement of de facilitaire inrichting van instellingen voor langdurige zorg? \nKom dan op woensdag 28 februari naar het symposium P3Venti in Zoetermeer. \nTNO deelt de onderzoeksresultaten van het programma P3Venti tot nu toe en gaat graag met u in gesprek over het daarbij horende handelingsperspectief. Wat betekent dit voor uw eigen zorginstelling? En hoe kan het onderzoeksprogramma nog beter op de praktijk aansluiten? \nVoertaal: Engels \n> Aanmelden kan hier
URL:https://fmtgezondheidszorg.nl/agenda/tno-symposium-p3venti/
LOCATION:Binnenklimaat Nederland\, Zilverstraat 69\, Zoetermeer\, 2718 RP\, Nederland
ATTACH;FMTTYPE=image/png:https://fmtgezondheidszorg.nl/wp-content/uploads/2023/11/P3-Venti-2024.png
ORGANIZER;CN="TNO":MAILTO:info@tno.nl
END:VEVENT
END:VCALENDAR