BEGIN:VCALENDAR
VERSION:2.0
PRODID:-//FMT Gezondheidszorg - ECPv6.15.20//NONSGML v1.0//EN
CALSCALE:GREGORIAN
METHOD:PUBLISH
X-WR-CALNAME:FMT Gezondheidszorg
X-ORIGINAL-URL:https://fmtgezondheidszorg.nl
X-WR-CALDESC:Evenementen voor FMT Gezondheidszorg
REFRESH-INTERVAL;VALUE=DURATION:PT1H
X-Robots-Tag:noindex
X-PUBLISHED-TTL:PT1H
BEGIN:VTIMEZONE
TZID:UTC
BEGIN:STANDARD
TZOFFSETFROM:+0000
TZOFFSETTO:+0000
TZNAME:UTC
DTSTART:20220101T000000
END:STANDARD
END:VTIMEZONE
BEGIN:VEVENT
DTSTART;TZID=UTC:20231208T090000
DTEND;TZID=UTC:20231208T133000
DTSTAMP:20260425T152758
CREATED:20231023T111926Z
LAST-MODIFIED:20231023T111926Z
UID:53166-1702026000-1702042200@fmtgezondheidszorg.nl
SUMMARY:CO2-routekaart Roadshow
DESCRIPTION:Verder met de routekaart in 2024\nJe hebt een CO2-routekaart opgesteld of bent daar mee bezig. Je loopt tegen zaken aan als financiering\, bestuurlijk draagvlak\, samenwerking met de woningcorporatie en wet & regelgeving. Wat de mogelijkheden voor duurzame renovatie of nieuwbouw? Wat zijn best practices van de experts en hoe doen anderen dat? Wat kun je verwachten aan ontwikkelingen vanuit de zorgsector\, overheid en verzekeraars? \nTijdens de Roadshow van het Expertisecentrum Verduurzaming Zorg krijg je praktische informatie en wissel je kennis en ervaringen uit met andere managers vastgoed en duurzaamheid met de deelsessies. Na één ochtend ben je weer geïnformeerd en geïnspireerd\, Zo kun je Verder met de routekaart in 2024! \nVoor wie\nManagers en teamleiders met strategische en tactische verantwoordelijkheid voor verduurzamen van het zorgvastgoed. Duurzaamheidscoördinatoren die met de CO2-routekaart werken. Adviseurs die voor zorgorganisaties de CO2-routekaart opstellen. \nDeelsessies\n\nSamenwerking met je woningcorporatie\nDoelmatig Beheer en Onderhoud (DBO)\nDuurzame renovatie door ontwerp\nFinancieringsmogelijkheden\nWet- en regelgeving en subsidies\nBestuurlijk draagvlak en financiering\nDuurzame Nieuwbouw\nDMJOP en uitvoering\nStarten met de routekaart\n\n> Programma en aanmelden
URL:https://fmtgezondheidszorg.nl/agenda/co2-routekaart-roadshow/
LOCATION:Social Impact Factory\, Vredenburg 40\, Utrecht\, 3511 BD\, Nederland
ATTACH;FMTTYPE=image/png:https://fmtgezondheidszorg.nl/wp-content/uploads/2023/10/EVZ.png
END:VEVENT
END:VCALENDAR